BEGIN:VCALENDAR
VERSION:2.0
PRODID:-//Bamford with Thornhill Parish Council//Meeting Calendar//EN
CALSCALE:GREGORIAN
METHOD:PUBLISH
BEGIN:VEVENT
UID:74383-20250908@bamfordwiththornhill-pc.gov.uk
DTSTAMP:20260420T080951Z
DTSTART;VALUE=DATE:20250908
DTEND;VALUE=DATE:20250909
SUMMARY:Amenities Committee meeting\\, 8 September 2025
DESCRIPTION:Amenities Committee Meeting\nView details: https://bamfordwiththornhill-pc.gov.uk/meetings/amenities-committee-meeting-8-september-2025/
URL:https://bamfordwiththornhill-pc.gov.uk/meetings/amenities-committee-meeting-8-september-2025/
END:VEVENT
END:VCALENDAR
