BEGIN:VCALENDAR
VERSION:2.0
PRODID:-//Bamford with Thornhill Parish Council//Meeting Calendar//EN
CALSCALE:GREGORIAN
METHOD:PUBLISH
BEGIN:VEVENT
UID:71282-20240603@bamfordwiththornhill-pc.gov.uk
DTSTAMP:20260420T080951Z
DTSTART;VALUE=DATE:20240603
DTEND;VALUE=DATE:20240604
SUMMARY:Full Council meeting &#8211\\; June 2024
DESCRIPTION:Full Council Meeting\nView details: https://bamfordwiththornhill-pc.gov.uk/meetings/3-jun-2024/
URL:https://bamfordwiththornhill-pc.gov.uk/meetings/3-jun-2024/
END:VEVENT
END:VCALENDAR
