BEGIN:VCALENDAR
VERSION:2.0
PRODID:-//Bamford with Thornhill Parish Council//Meeting Calendar//EN
CALSCALE:GREGORIAN
METHOD:PUBLISH
BEGIN:VEVENT
UID:70614-20211201@bamfordwiththornhill-pc.gov.uk
DTSTAMP:20260420T081610Z
DTSTART;VALUE=DATE:20211201
DTEND;VALUE=DATE:20211202
SUMMARY:Full Council Meeting &#8211\\; December 2021
DESCRIPTION:Full Council Meeting\nView details: https://bamfordwiththornhill-pc.gov.uk/meetings/full-council-meeting-december-2021/
URL:https://bamfordwiththornhill-pc.gov.uk/meetings/full-council-meeting-december-2021/
END:VEVENT
END:VCALENDAR
