BEGIN:VCALENDAR
VERSION:2.0
PRODID:-//Bamford with Thornhill Parish Council//Meeting Calendar//EN
CALSCALE:GREGORIAN
METHOD:PUBLISH
BEGIN:VEVENT
UID:70591-20230202@bamfordwiththornhill-pc.gov.uk
DTSTAMP:20260420T081454Z
DTSTART;VALUE=DATE:20230202
DTEND;VALUE=DATE:20230203
SUMMARY:Amenities Meeting &#8211\\; February 2023
DESCRIPTION:Amenities Committee Meeting\nView details: https://bamfordwiththornhill-pc.gov.uk/meetings/amenities-meeting-february-2023/
URL:https://bamfordwiththornhill-pc.gov.uk/meetings/amenities-meeting-february-2023/
END:VEVENT
END:VCALENDAR
